BEGIN:VCALENDAR
VERSION:2.0
PRODID:-//The Orchards School - ECPv6.15.20//NONSGML v1.0//EN
CALSCALE:GREGORIAN
METHOD:PUBLISH
X-ORIGINAL-URL:https://www.theorchardsschool.org
X-WR-CALDESC:Events for The Orchards School
REFRESH-INTERVAL;VALUE=DURATION:PT1H
X-Robots-Tag:noindex
X-PUBLISHED-TTL:PT1H
BEGIN:VTIMEZONE
TZID:Europe/London
BEGIN:DAYLIGHT
TZOFFSETFROM:+0000
TZOFFSETTO:+0100
TZNAME:BST
DTSTART:20210328T010000
END:DAYLIGHT
BEGIN:STANDARD
TZOFFSETFROM:+0100
TZOFFSETTO:+0000
TZNAME:GMT
DTSTART:20211031T010000
END:STANDARD
BEGIN:DAYLIGHT
TZOFFSETFROM:+0000
TZOFFSETTO:+0100
TZNAME:BST
DTSTART:20220327T010000
END:DAYLIGHT
BEGIN:STANDARD
TZOFFSETFROM:+0100
TZOFFSETTO:+0000
TZNAME:GMT
DTSTART:20221030T010000
END:STANDARD
BEGIN:DAYLIGHT
TZOFFSETFROM:+0000
TZOFFSETTO:+0100
TZNAME:BST
DTSTART:20230326T010000
END:DAYLIGHT
BEGIN:STANDARD
TZOFFSETFROM:+0100
TZOFFSETTO:+0000
TZNAME:GMT
DTSTART:20231029T010000
END:STANDARD
END:VTIMEZONE
BEGIN:VEVENT
DTSTART;TZID=Europe/London:20220705T160000
DTEND;TZID=Europe/London:20220705T170000
DTSTAMP:20260420T131915
CREATED:20220610T162758Z
LAST-MODIFIED:20220616T094720Z
UID:6290-1657036800-1657040400@www.theorchardsschool.org
SUMMARY:Current Reception to Year Three Parent Transition Information Afternoon
DESCRIPTION:All parents and carers are invited to a short presentation from Head of School\, Mrs Rumney\, before an opportunity to break into your class groups and meet with your child’s new class teacher for September\, discuss new routines and ask any questions you may have.
URL:https://www.theorchardsschool.org/event/current-reception-to-year-three-parent-transition-information-afternoon/
LOCATION:The Orchards School
CATEGORIES:Parent Event,Reception,Year 1,Year 2,Year 3
ORGANIZER;CN="The Orchards School":MAILTO:office@theorchardsschool.org
END:VEVENT
END:VCALENDAR