BEGIN:VCALENDAR
VERSION:2.0
PRODID:-//The Orchards School - ECPv6.15.20//NONSGML v1.0//EN
CALSCALE:GREGORIAN
METHOD:PUBLISH
X-ORIGINAL-URL:https://www.theorchardsschool.org
X-WR-CALDESC:Events for The Orchards School
REFRESH-INTERVAL;VALUE=DURATION:PT1H
X-Robots-Tag:noindex
X-PUBLISHED-TTL:PT1H
BEGIN:VTIMEZONE
TZID:Europe/London
BEGIN:DAYLIGHT
TZOFFSETFROM:+0000
TZOFFSETTO:+0100
TZNAME:BST
DTSTART:20220327T010000
END:DAYLIGHT
BEGIN:STANDARD
TZOFFSETFROM:+0100
TZOFFSETTO:+0000
TZNAME:GMT
DTSTART:20221030T010000
END:STANDARD
BEGIN:DAYLIGHT
TZOFFSETFROM:+0000
TZOFFSETTO:+0100
TZNAME:BST
DTSTART:20230326T010000
END:DAYLIGHT
BEGIN:STANDARD
TZOFFSETFROM:+0100
TZOFFSETTO:+0000
TZNAME:GMT
DTSTART:20231029T010000
END:STANDARD
BEGIN:DAYLIGHT
TZOFFSETFROM:+0000
TZOFFSETTO:+0100
TZNAME:BST
DTSTART:20240331T010000
END:DAYLIGHT
BEGIN:STANDARD
TZOFFSETFROM:+0100
TZOFFSETTO:+0000
TZNAME:GMT
DTSTART:20241027T010000
END:STANDARD
END:VTIMEZONE
BEGIN:VEVENT
DTSTART;TZID=Europe/London:20230307T151500
DTEND;TZID=Europe/London:20230307T190000
DTSTAMP:20260419T214516
CREATED:20230217T092704Z
LAST-MODIFIED:20230217T092704Z
UID:7021-1678202100-1678215600@www.theorchardsschool.org
SUMMARY:Parent Consultations
DESCRIPTION:Class teachers will be placing a sign-up sheet outside their doors week beginning Monday 27th February. Parents are asked to sign up for an in person 10 minute consultation slot at a time to suit them. Parents who do not access the school site because their children may be at Little Gems\, or use the Walking Bus are asked to write some optional times in their children’s Home Link Planner\, or liaise with Little Gems staff. The class teacher will then confirm which time is able to be allocated via the Home Link Journal. \nIf you are unavailable to attend any of the times listed\, please do let your class teacher know and they will explore options for a mutually convenient time on a different day. If you feel you need a longer timeslot\, please contact your class teacher to arrange an alternate time for a meeting. \n[embeddoc url=”https://www.theorchardsschool.org/wp-content/uploads/2023/02/Sign-Up-Sheet-Parents-Consultation-information-for-newsletter-March-23.pdf”]
URL:https://www.theorchardsschool.org/event/parent-consultations-3/
LOCATION:The Orchards School
CATEGORIES:Parent Event,Reception,Year 1,Year 2,Year 3,Year 4
ORGANIZER;CN="The Orchards School":MAILTO:office@theorchardsschool.org
END:VEVENT
BEGIN:VEVENT
DTSTART;TZID=Europe/London:20230308T151500
DTEND;TZID=Europe/London:20230308T190000
DTSTAMP:20260419T214516
CREATED:20230217T092913Z
LAST-MODIFIED:20230217T092913Z
UID:7024-1678288500-1678302000@www.theorchardsschool.org
SUMMARY:Parent Consultations
DESCRIPTION:Class teachers will be placing a sign-up sheet outside their doors week beginning Monday 27th February. Parents are asked to sign up for an in person 10 minute consultation slot at a time to suit them. Parents who do not access the school site because their children may be at Little Gems\, or use the Walking Bus are asked to write some optional times in their children’s Home Link Planner\, or liaise with Little Gems staff. The class teacher will then confirm which time is able to be allocated via the Home Link Journal. \nIf you are unavailable to attend any of the times listed\, please do let your class teacher know and they will explore options for a mutually convenient time on a different day. If you feel you need a longer timeslot\, please contact your class teacher to arrange an alternate time for a meeting. \n[embeddoc url=”https://www.theorchardsschool.org/wp-content/uploads/2023/02/Sign-Up-Sheet-Parents-Consultation-information-for-newsletter-March-23.pdf”]
URL:https://www.theorchardsschool.org/event/parent-consultations-4/
LOCATION:The Orchards School
CATEGORIES:Parent Event,Reception,Year 1,Year 2,Year 3,Year 4
ORGANIZER;CN="The Orchards School":MAILTO:office@theorchardsschool.org
END:VEVENT
BEGIN:VEVENT
DTSTART;TZID=Europe/London:20230314T093000
DTEND;TZID=Europe/London:20230314T113000
DTSTAMP:20260419T214516
CREATED:20230217T110203Z
LAST-MODIFIED:20230217T110235Z
UID:7031-1678786200-1678793400@www.theorchardsschool.org
SUMMARY:Year 3/4 Quicksticks Hockey Festival
DESCRIPTION: An exciting opportunity to develop skills and play against local schools.
URL:https://www.theorchardsschool.org/event/year-3-4-quicksticks-hockey-festival/
LOCATION:Bromsgrove Hockey Club\, St. Godwalds Road\, St. Godwalds Road\, Bromsgrove B60 3BW\, B60 3BW\, United Kingdom
CATEGORIES:Sporting Event,Year 3,Year 4
ORGANIZER;CN="PE Lead":MAILTO:office@theorchardsschool.org
END:VEVENT
BEGIN:VEVENT
DTSTART;TZID=Europe/London:20230329T030000
DTEND;TZID=Europe/London:20230329T170000
DTSTAMP:20260419T214516
CREATED:20230217T142853Z
LAST-MODIFIED:20230217T142853Z
UID:7039-1680058800-1680109200@www.theorchardsschool.org
SUMMARY:STEM Open Afternoon
DESCRIPTION:Visitors welcome\, more information to follow closer to the date.
URL:https://www.theorchardsschool.org/event/stem-open-afternoon/
LOCATION:The Orchards School
CATEGORIES:Community Event,Nursery,Parent Event,Prospective Parent,Reception,Year 1,Year 2,Year 3,Year 4
ORGANIZER;CN="The Orchards School":MAILTO:office@theorchardsschool.org
END:VEVENT
END:VCALENDAR