BEGIN:VCALENDAR
VERSION:2.0
PRODID:-//The Orchards School - ECPv6.15.20//NONSGML v1.0//EN
CALSCALE:GREGORIAN
METHOD:PUBLISH
X-WR-CALNAME:The Orchards School
X-ORIGINAL-URL:https://www.theorchardsschool.org
X-WR-CALDESC:Events for The Orchards School
REFRESH-INTERVAL;VALUE=DURATION:PT1H
X-Robots-Tag:noindex
X-PUBLISHED-TTL:PT1H
BEGIN:VTIMEZONE
TZID:Europe/London
BEGIN:DAYLIGHT
TZOFFSETFROM:+0000
TZOFFSETTO:+0100
TZNAME:BST
DTSTART:20230326T010000
END:DAYLIGHT
BEGIN:STANDARD
TZOFFSETFROM:+0100
TZOFFSETTO:+0000
TZNAME:GMT
DTSTART:20231029T010000
END:STANDARD
BEGIN:DAYLIGHT
TZOFFSETFROM:+0000
TZOFFSETTO:+0100
TZNAME:BST
DTSTART:20240331T010000
END:DAYLIGHT
BEGIN:STANDARD
TZOFFSETFROM:+0100
TZOFFSETTO:+0000
TZNAME:GMT
DTSTART:20241027T010000
END:STANDARD
BEGIN:DAYLIGHT
TZOFFSETFROM:+0000
TZOFFSETTO:+0100
TZNAME:BST
DTSTART:20250330T010000
END:DAYLIGHT
BEGIN:STANDARD
TZOFFSETFROM:+0100
TZOFFSETTO:+0000
TZNAME:GMT
DTSTART:20251026T010000
END:STANDARD
END:VTIMEZONE
BEGIN:VEVENT
DTSTART;TZID=Europe/London:20240424T124500
DTEND;TZID=Europe/London:20240424T150000
DTSTAMP:20260419T231930
CREATED:20240416T111441Z
LAST-MODIFIED:20240416T111441Z
UID:8027-1713962700-1713970800@www.theorchardsschool.org
SUMMARY:Year 4 Middle School Sports Event
DESCRIPTION:Year 4 \nMiddle School Sports Event at Parkside \nWednesday 24th April 2024 \n 
URL:https://www.theorchardsschool.org/event/year-4-middle-school-sports-event/
LOCATION:Parkside Middle School\, Stourbridge Road\, Bromsgrove\, B61 0AH\, United Kingdom
CATEGORIES:Sporting Event,Year 4
END:VEVENT
END:VCALENDAR