BEGIN:VCALENDAR
VERSION:2.0
PRODID:-//The Orchards School - ECPv6.15.20//NONSGML v1.0//EN
CALSCALE:GREGORIAN
METHOD:PUBLISH
X-ORIGINAL-URL:https://www.theorchardsschool.org
X-WR-CALDESC:Events for The Orchards School
REFRESH-INTERVAL;VALUE=DURATION:PT1H
X-Robots-Tag:noindex
X-PUBLISHED-TTL:PT1H
BEGIN:VTIMEZONE
TZID:Europe/London
BEGIN:DAYLIGHT
TZOFFSETFROM:+0000
TZOFFSETTO:+0100
TZNAME:BST
DTSTART:20220327T010000
END:DAYLIGHT
BEGIN:STANDARD
TZOFFSETFROM:+0100
TZOFFSETTO:+0000
TZNAME:GMT
DTSTART:20221030T010000
END:STANDARD
BEGIN:DAYLIGHT
TZOFFSETFROM:+0000
TZOFFSETTO:+0100
TZNAME:BST
DTSTART:20230326T010000
END:DAYLIGHT
BEGIN:STANDARD
TZOFFSETFROM:+0100
TZOFFSETTO:+0000
TZNAME:GMT
DTSTART:20231029T010000
END:STANDARD
BEGIN:DAYLIGHT
TZOFFSETFROM:+0000
TZOFFSETTO:+0100
TZNAME:BST
DTSTART:20240331T010000
END:DAYLIGHT
BEGIN:STANDARD
TZOFFSETFROM:+0100
TZOFFSETTO:+0000
TZNAME:GMT
DTSTART:20241027T010000
END:STANDARD
END:VTIMEZONE
BEGIN:VEVENT
DTSTART;TZID=Europe/London:20230303T111500
DTEND;TZID=Europe/London:20230303T124500
DTSTAMP:20260420T221816
CREATED:20230217T085029Z
LAST-MODIFIED:20230217T085129Z
UID:7010-1677842100-1677847500@www.theorchardsschool.org
SUMMARY:Eco & Cycling Festival: Year 4
DESCRIPTION:We have organised a visit to the Eco festival (Cycling Event) at the Stourport  Stourport Sports Club cycle track and surrounding area 1.15 – 12.45pm. \nThe children will need to be able to ride a bike\, however bikes will be provided. \nIf your child is attending: \n\nPlease provide a drink and snack for this trip.\nPlease ensure that your child has suitable sports clothing for this trip (trainers\, jogging bottoms\, school green PE shirt and jumper with logo on)\n\nThe value of this trip on every child’s learning is significant. “Studies of adventure learning interventions consistently show positive benefits on academic learning. On average\, pupils who participate in adventure learning interventions make approximately four additional months’ progress.  There is also evidence of an impact on non-cognitive outcomes such as self-confidence.”
URL:https://www.theorchardsschool.org/event/eco-cycling-festival/
LOCATION:Stourport Sports Club\, Kingsway\, Stourport-On-Severn DY13 8BQ\, Stourport-On-Severn\, DY13 8BQ\, United Kingdom
CATEGORIES:Educational Visit,Enrichment Activity,Sporting Event,Year 4
ORGANIZER;CN="PE Lead":MAILTO:office@theorchardsschool.org
END:VEVENT
END:VCALENDAR