BEGIN:VCALENDAR
VERSION:2.0
PRODID:-//The Orchards School - ECPv6.15.20//NONSGML v1.0//EN
CALSCALE:GREGORIAN
METHOD:PUBLISH
X-WR-CALNAME:The Orchards School
X-ORIGINAL-URL:https://www.theorchardsschool.org
X-WR-CALDESC:Events for The Orchards School
REFRESH-INTERVAL;VALUE=DURATION:PT1H
X-Robots-Tag:noindex
X-PUBLISHED-TTL:PT1H
BEGIN:VTIMEZONE
TZID:Europe/London
BEGIN:DAYLIGHT
TZOFFSETFROM:+0000
TZOFFSETTO:+0100
TZNAME:BST
DTSTART:20230326T010000
END:DAYLIGHT
BEGIN:STANDARD
TZOFFSETFROM:+0100
TZOFFSETTO:+0000
TZNAME:GMT
DTSTART:20231029T010000
END:STANDARD
BEGIN:DAYLIGHT
TZOFFSETFROM:+0000
TZOFFSETTO:+0100
TZNAME:BST
DTSTART:20240331T010000
END:DAYLIGHT
BEGIN:STANDARD
TZOFFSETFROM:+0100
TZOFFSETTO:+0000
TZNAME:GMT
DTSTART:20241027T010000
END:STANDARD
BEGIN:DAYLIGHT
TZOFFSETFROM:+0000
TZOFFSETTO:+0100
TZNAME:BST
DTSTART:20250330T010000
END:DAYLIGHT
BEGIN:STANDARD
TZOFFSETFROM:+0100
TZOFFSETTO:+0000
TZNAME:GMT
DTSTART:20251026T010000
END:STANDARD
END:VTIMEZONE
BEGIN:VEVENT
DTSTART;VALUE=DATE:20240408
DTEND;VALUE=DATE:20240409
DTSTAMP:20260419T214339
CREATED:20240118T104828Z
LAST-MODIFIED:20240118T104828Z
UID:7486-1712534400-1712620799@www.theorchardsschool.org
SUMMARY:Cricket Lessons Year 3 and 4
DESCRIPTION:Year 3 and 4 Cricket \nStarting on Monday 8th April 2024\, every Monday for six weeks (excluding Monday 6th May). \nMonday 8th April 2024\, \nMonday 15th April 2024\, \nMonday 22nd April 2024\, \nMonday 29th April 2024\, \nMonday 13th May 2024\, \nMonday 20th May 2024
URL:https://www.theorchardsschool.org/event/cricket-lessons-year-3-and-4/
LOCATION:The Orchards School
CATEGORIES:Enrichment Activity,Sporting Event,Year 3,Year 4
END:VEVENT
BEGIN:VEVENT
DTSTART;TZID=Europe/London:20240409T130000
DTEND;TZID=Europe/London:20240409T143000
DTSTAMP:20260419T214339
CREATED:20240307T102044Z
LAST-MODIFIED:20240307T102044Z
UID:7928-1712667600-1712673000@www.theorchardsschool.org
SUMMARY:Year 4 - Football Session with Kidderminster Harriers
DESCRIPTION:Year 4 – Football Session with Kidderminster Harriers \nTuesday 9th April 2024
URL:https://www.theorchardsschool.org/event/year-4-football-session-with-kidderminster-harriers/
LOCATION:The Orchards School
CATEGORIES:Sporting Event,Year 4
END:VEVENT
BEGIN:VEVENT
DTSTART;TZID=Europe/London:20240416T130000
DTEND;TZID=Europe/London:20240416T143000
DTSTAMP:20260419T214339
CREATED:20240307T102341Z
LAST-MODIFIED:20240307T102341Z
UID:7930-1713272400-1713277800@www.theorchardsschool.org
SUMMARY:Year 4 - Football Session with Kidderminster Harriers
DESCRIPTION:Year 4 – Football Session with Kidderminster Harriers \nTuesday 16th April 2024 \n 
URL:https://www.theorchardsschool.org/event/year-4-football-session-with-kidderminster-harriers-2/
LOCATION:The Orchards School
CATEGORIES:Sporting Event,Year 4
END:VEVENT
BEGIN:VEVENT
DTSTART;TZID=Europe/London:20240423T130000
DTEND;TZID=Europe/London:20240423T143000
DTSTAMP:20260419T214339
CREATED:20240307T103505Z
LAST-MODIFIED:20240307T103505Z
UID:7932-1713877200-1713882600@www.theorchardsschool.org
SUMMARY:Year 4 - Football Session with Kidderminster Harriers
DESCRIPTION:Year 4 – Football Session with Kidderminster Harriers \nTuesday 23rd April 2024
URL:https://www.theorchardsschool.org/event/year-4-football-session-with-kidderminster-harriers-3/
LOCATION:The Orchards School
CATEGORIES:Sporting Event,Year 4
END:VEVENT
BEGIN:VEVENT
DTSTART;TZID=Europe/London:20240424T124500
DTEND;TZID=Europe/London:20240424T150000
DTSTAMP:20260419T214339
CREATED:20240416T111441Z
LAST-MODIFIED:20240416T111441Z
UID:8027-1713962700-1713970800@www.theorchardsschool.org
SUMMARY:Year 4 Middle School Sports Event
DESCRIPTION:Year 4 \nMiddle School Sports Event at Parkside \nWednesday 24th April 2024 \n 
URL:https://www.theorchardsschool.org/event/year-4-middle-school-sports-event/
LOCATION:Parkside Middle School\, Stourbridge Road\, Bromsgrove\, B61 0AH\, United Kingdom
CATEGORIES:Sporting Event,Year 4
END:VEVENT
BEGIN:VEVENT
DTSTART;TZID=Europe/London:20240430T130000
DTEND;TZID=Europe/London:20240430T143000
DTSTAMP:20260419T214339
CREATED:20240307T103829Z
LAST-MODIFIED:20240307T103829Z
UID:7934-1714482000-1714487400@www.theorchardsschool.org
SUMMARY:Year 4 - Football Session with Kidderminster Harriers
DESCRIPTION:Year 4 – Football Session with Kidderminster Harriers \nTuesday 30th April 2024
URL:https://www.theorchardsschool.org/event/year-4-football-session-with-kidderminster-harriers-4/
LOCATION:The Orchards School
CATEGORIES:Sporting Event,Year 4
END:VEVENT
END:VCALENDAR