BEGIN:VCALENDAR
VERSION:2.0
PRODID:-//The Orchards School - ECPv6.15.20//NONSGML v1.0//EN
CALSCALE:GREGORIAN
METHOD:PUBLISH
X-ORIGINAL-URL:https://www.theorchardsschool.org
X-WR-CALDESC:Events for The Orchards School
REFRESH-INTERVAL;VALUE=DURATION:PT1H
X-Robots-Tag:noindex
X-PUBLISHED-TTL:PT1H
BEGIN:VTIMEZONE
TZID:Europe/London
BEGIN:DAYLIGHT
TZOFFSETFROM:+0000
TZOFFSETTO:+0100
TZNAME:BST
DTSTART:20250330T010000
END:DAYLIGHT
BEGIN:STANDARD
TZOFFSETFROM:+0100
TZOFFSETTO:+0000
TZNAME:GMT
DTSTART:20251026T010000
END:STANDARD
BEGIN:DAYLIGHT
TZOFFSETFROM:+0000
TZOFFSETTO:+0100
TZNAME:BST
DTSTART:20260329T010000
END:DAYLIGHT
BEGIN:STANDARD
TZOFFSETFROM:+0100
TZOFFSETTO:+0000
TZNAME:GMT
DTSTART:20261025T010000
END:STANDARD
BEGIN:DAYLIGHT
TZOFFSETFROM:+0000
TZOFFSETTO:+0100
TZNAME:BST
DTSTART:20270328T010000
END:DAYLIGHT
BEGIN:STANDARD
TZOFFSETFROM:+0100
TZOFFSETTO:+0000
TZNAME:GMT
DTSTART:20271031T010000
END:STANDARD
BEGIN:DAYLIGHT
TZOFFSETFROM:+0000
TZOFFSETTO:+0100
TZNAME:BST
DTSTART:20280326T010000
END:DAYLIGHT
BEGIN:STANDARD
TZOFFSETFROM:+0100
TZOFFSETTO:+0000
TZNAME:GMT
DTSTART:20281029T010000
END:STANDARD
END:VTIMEZONE
BEGIN:VEVENT
DTSTART;VALUE=DATE:20260310
DTEND;VALUE=DATE:20260311
DTSTAMP:20260423T121104
CREATED:20260225T102410Z
LAST-MODIFIED:20260225T102410Z
UID:8968-1773100800-1773187199@www.theorchardsschool.org
SUMMARY:Parent Consultations
DESCRIPTION:Parent Consultations \nTuesday 10th March 2026 \n  \n  \n 
URL:https://www.theorchardsschool.org/event/parent-consultations-8/
CATEGORIES:Nursery,Parent Event,Reception,Year 1,Year 2,Year 3,Year 4
END:VEVENT
BEGIN:VEVENT
DTSTART;VALUE=DATE:20260311
DTEND;VALUE=DATE:20260312
DTSTAMP:20260423T121104
CREATED:20260225T102509Z
LAST-MODIFIED:20260225T102509Z
UID:8970-1773187200-1773273599@www.theorchardsschool.org
SUMMARY:Parent Consultations
DESCRIPTION:Parent Consultations \nWednesday 11th March 2026
URL:https://www.theorchardsschool.org/event/parent-consultations-9/
LOCATION:The Orchards School
CATEGORIES:Nursery,Parent Event,Reception,Year 1,Year 2,Year 3,Year 4
END:VEVENT
BEGIN:VEVENT
DTSTART;VALUE=DATE:20260320
DTEND;VALUE=DATE:20260321
DTSTAMP:20260423T121104
CREATED:20260317T110406Z
LAST-MODIFIED:20260317T110406Z
UID:9143-1773964800-1774051199@www.theorchardsschool.org
SUMMARY:Comic Relief Day
DESCRIPTION:Comic Relief Day \nFriday 20th March 2026 \nWe invite children to wear something red with their uniform. \n 
URL:https://www.theorchardsschool.org/event/comic-relief-day/
LOCATION:The Orchards School
CATEGORIES:Nursery,Reception,Year 1,Year 2,Year 3,Year 4
END:VEVENT
BEGIN:VEVENT
DTSTART;VALUE=DATE:20260324
DTEND;VALUE=DATE:20260325
DTSTAMP:20260423T121104
CREATED:20251024T073736Z
LAST-MODIFIED:20251215T100226Z
UID:8762-1774310400-1774396799@www.theorchardsschool.org
SUMMARY:Class Photos
DESCRIPTION:Class Photos \nTuesday 24th March 2026
URL:https://www.theorchardsschool.org/event/individual-photos-2/
LOCATION:The Orchards School
CATEGORIES:Nursery,Reception,Year 1,Year 2,Year 3,Year 4
END:VEVENT
BEGIN:VEVENT
DTSTART;TZID=Europe/London:20260325T090000
DTEND;TZID=Europe/London:20260325T110000
DTSTAMP:20260423T121104
CREATED:20260304T112450Z
LAST-MODIFIED:20260304T112450Z
UID:9016-1774429200-1774436400@www.theorchardsschool.org
SUMMARY:Reception Eye Tests
DESCRIPTION:Reception Eye Tests \nWednesday 25th March 2026
URL:https://www.theorchardsschool.org/event/reception-eye-tests-2/
LOCATION:The Orchards School
CATEGORIES:Reception
END:VEVENT
BEGIN:VEVENT
DTSTART;VALUE=DATE:20260327
DTEND;VALUE=DATE:20260328
DTSTAMP:20260423T121104
CREATED:20250605T104207Z
LAST-MODIFIED:20250605T104207Z
UID:8576-1774569600-1774655999@www.theorchardsschool.org
SUMMARY:Last Day of Term
DESCRIPTION:Last Day of Term \nFriday 27th March 2026
URL:https://www.theorchardsschool.org/event/last-day-of-term-5/
LOCATION:The Orchards School
CATEGORIES:Nursery,Reception,Year 1,Year 2,Year 3,Year 4
END:VEVENT
BEGIN:VEVENT
DTSTART;VALUE=DATE:20260327
DTEND;VALUE=DATE:20260328
DTSTAMP:20260423T121104
CREATED:20260225T104811Z
LAST-MODIFIED:20260316T132020Z
UID:8972-1774569600-1774655999@www.theorchardsschool.org
SUMMARY:Non-Uniform Day and Easter Bonnet Parade
DESCRIPTION:Non-Uniform Day and Easter Bonnet Parade \nFriday 27th March 2026 – Easter themed if you wish \n 
URL:https://www.theorchardsschool.org/event/non-uniform-day/
LOCATION:The Orchards School
CATEGORIES:Nursery,Reception,Year 1,Year 2,Year 3,Year 4
END:VEVENT
BEGIN:VEVENT
DTSTART;VALUE=DATE:20260330
DTEND;VALUE=DATE:20260411
DTSTAMP:20260423T121104
CREATED:20250605T104412Z
LAST-MODIFIED:20250605T104412Z
UID:8578-1774828800-1775865599@www.theorchardsschool.org
SUMMARY:Easter Break
DESCRIPTION:Easter Break \nMonday 30th March 2026 – Friday 10th April 2026
URL:https://www.theorchardsschool.org/event/easter-break-4/
LOCATION:The Orchards School
CATEGORIES:Nursery,Reception,School Holiday,Year 1,Year 2,Year 3,Year 4
END:VEVENT
BEGIN:VEVENT
DTSTART;VALUE=DATE:20260413
DTEND;VALUE=DATE:20260414
DTSTAMP:20260423T121104
CREATED:20250605T104540Z
LAST-MODIFIED:20250605T104540Z
UID:8580-1776038400-1776124799@www.theorchardsschool.org
SUMMARY:Term Begins
DESCRIPTION:Term Begins \nMonday 13th April 2026
URL:https://www.theorchardsschool.org/event/term-begins-9/
LOCATION:The Orchards School
CATEGORIES:Nursery,Reception,Term Start,Year 1,Year 2,Year 3,Year 4
END:VEVENT
BEGIN:VEVENT
DTSTART;VALUE=DATE:20260501
DTEND;VALUE=DATE:20260502
DTSTAMP:20260423T121104
CREATED:20260423T101325Z
LAST-MODIFIED:20260423T101325Z
UID:9247-1777593600-1777679999@www.theorchardsschool.org
SUMMARY:Crazy Hair Day
DESCRIPTION:Crazy Hair Day \nFriday 1st May 2026 \n£1 Donation Fundraiser
URL:https://www.theorchardsschool.org/event/crazy-hair-day/
CATEGORIES:Nursery,Reception,Year 1,Year 2,Year 3,Year 4
END:VEVENT
BEGIN:VEVENT
DTSTART;VALUE=DATE:20260522
DTEND;VALUE=DATE:20260523
DTSTAMP:20260423T121104
CREATED:20250605T104734Z
LAST-MODIFIED:20250605T104734Z
UID:8582-1779408000-1779494399@www.theorchardsschool.org
SUMMARY:Staff Inset Day
DESCRIPTION:Staff Inset Day \nFriday 22nd May 2026 \nNo pupils required in school
URL:https://www.theorchardsschool.org/event/staff-inset-day-22/
LOCATION:The Orchards School
CATEGORIES:Nursery,Reception,Staff Training,Year 1,Year 2,Year 3,Year 4
END:VEVENT
BEGIN:VEVENT
DTSTART;VALUE=DATE:20260525
DTEND;VALUE=DATE:20260530
DTSTAMP:20260423T121104
CREATED:20250605T104856Z
LAST-MODIFIED:20250605T104856Z
UID:8584-1779667200-1780099199@www.theorchardsschool.org
SUMMARY:Half Term
DESCRIPTION:Half Term \nMonday 25th May 2026 – Friday 29th May 2026
URL:https://www.theorchardsschool.org/event/half-term-20/
LOCATION:The Orchards School
CATEGORIES:Nursery,Reception,Year 1,Year 2,Year 3,Year 4
END:VEVENT
BEGIN:VEVENT
DTSTART;VALUE=DATE:20260601
DTEND;VALUE=DATE:20260602
DTSTAMP:20260423T121104
CREATED:20250605T104950Z
LAST-MODIFIED:20250605T104950Z
UID:8586-1780272000-1780358399@www.theorchardsschool.org
SUMMARY:Term Begins
DESCRIPTION:Term Begins \nMonday 1st June 2026
URL:https://www.theorchardsschool.org/event/term-begins-10/
LOCATION:The Orchards School
CATEGORIES:Nursery,Reception,Term Start,Year 1,Year 2,Year 3,Year 4
END:VEVENT
BEGIN:VEVENT
DTSTART;VALUE=DATE:20260624
DTEND;VALUE=DATE:20260625
DTSTAMP:20260423T121104
CREATED:20260423T101812Z
LAST-MODIFIED:20260423T101812Z
UID:9249-1782259200-1782345599@www.theorchardsschool.org
SUMMARY:Sports Day and Family Picnic 2026
DESCRIPTION:Sports Day and Family Picnic 2026 \nWednesday 24th June 2026 \nMore information to follow \n 
URL:https://www.theorchardsschool.org/event/sports-day-and-family-picnic-2026/
LOCATION:The Orchards School
CATEGORIES:Nursery,Parent Event,Reception,Sporting Event,Year 1,Year 2,Year 3,Year 4
END:VEVENT
BEGIN:VEVENT
DTSTART;VALUE=DATE:20260717
DTEND;VALUE=DATE:20260718
DTSTAMP:20260423T121104
CREATED:20250605T105422Z
LAST-MODIFIED:20250605T105422Z
UID:8588-1784246400-1784332799@www.theorchardsschool.org
SUMMARY:Last Day of Term
DESCRIPTION:Last Day of Term \nFriday 17th July 2026
URL:https://www.theorchardsschool.org/event/last-day-of-term-6/
LOCATION:The Orchards School
CATEGORIES:Nursery,Reception,Year 1,Year 2,Year 3,Year 4
END:VEVENT
BEGIN:VEVENT
DTSTART;VALUE=DATE:20260720
DTEND;VALUE=DATE:20260721
DTSTAMP:20260423T121104
CREATED:20250605T105539Z
LAST-MODIFIED:20250605T105539Z
UID:8590-1784505600-1784591999@www.theorchardsschool.org
SUMMARY:Staff Inset Day
DESCRIPTION:Staff Inset Day \nMonday 20th July 2026 \nNo pupils required in school
URL:https://www.theorchardsschool.org/event/staff-inset-day-23/
LOCATION:The Orchards School
CATEGORIES:Nursery,Reception,Staff Training,Year 1,Year 2,Year 3,Year 4
END:VEVENT
BEGIN:VEVENT
DTSTART;VALUE=DATE:20260901
DTEND;VALUE=DATE:20260902
DTSTAMP:20260423T121104
CREATED:20260423T103041Z
LAST-MODIFIED:20260423T103041Z
UID:9257-1788220800-1788307199@www.theorchardsschool.org
SUMMARY:Staff Inset Day
DESCRIPTION:Staff Inset Day \nTuesday 1st September 2026 \nNo pupils required in school
URL:https://www.theorchardsschool.org/event/staff-inset-day-24/
LOCATION:The Orchards School
CATEGORIES:Nursery,Reception,Staff Training,Year 1,Year 2,Year 3,Year 4
END:VEVENT
BEGIN:VEVENT
DTSTART;VALUE=DATE:20260902
DTEND;VALUE=DATE:20260903
DTSTAMP:20260423T121104
CREATED:20260423T103212Z
LAST-MODIFIED:20260423T103212Z
UID:9259-1788307200-1788393599@www.theorchardsschool.org
SUMMARY:Staff Inset Day
DESCRIPTION:Staff Inset Day \nWednesday 2nd September 2026 \nNo pupils required in school
URL:https://www.theorchardsschool.org/event/staff-inset-day-25/
LOCATION:The Orchards School
CATEGORIES:Nursery,Reception,Staff Training,Year 1,Year 2,Year 3,Year 4
END:VEVENT
BEGIN:VEVENT
DTSTART;VALUE=DATE:20260903
DTEND;VALUE=DATE:20260904
DTSTAMP:20260423T121104
CREATED:20260423T103405Z
LAST-MODIFIED:20260423T103405Z
UID:9261-1788393600-1788479999@www.theorchardsschool.org
SUMMARY:Staff Inset Day
DESCRIPTION:Staff Inset Day \nThursday 3rd September 2026 \nNo pupils required in school
URL:https://www.theorchardsschool.org/event/staff-inset-day-26/
LOCATION:The Orchards School
CATEGORIES:Nursery,Reception,Staff Training,Year 1,Year 2,Year 3,Year 4
END:VEVENT
BEGIN:VEVENT
DTSTART;VALUE=DATE:20260904
DTEND;VALUE=DATE:20260905
DTSTAMP:20260423T121104
CREATED:20260423T103526Z
LAST-MODIFIED:20260423T103526Z
UID:9263-1788480000-1788566399@www.theorchardsschool.org
SUMMARY:Staff Inset Day
DESCRIPTION:Staff Inset Day \nFriday 4th September 2026 \nNo pupils required in school
URL:https://www.theorchardsschool.org/event/staff-inset-day-27/
LOCATION:The Orchards School
CATEGORIES:Nursery,Reception,Staff Training,Year 1,Year 2,Year 3,Year 4
END:VEVENT
BEGIN:VEVENT
DTSTART;VALUE=DATE:20260907
DTEND;VALUE=DATE:20260908
DTSTAMP:20260423T121104
CREATED:20260423T104401Z
LAST-MODIFIED:20260423T104401Z
UID:9273-1788739200-1788825599@www.theorchardsschool.org
SUMMARY:Start of Term
DESCRIPTION:Start of Term \nMonday 7th September 2026 \nFirst day\, welcome back!
URL:https://www.theorchardsschool.org/event/start-of-term-3/
LOCATION:The Orchards School
CATEGORIES:Nursery,Reception,Term Start,Year 1,Year 2,Year 3,Year 4
END:VEVENT
BEGIN:VEVENT
DTSTART;TZID=Europe/London:20261008T090000
DTEND;TZID=Europe/London:20261008T120000
DTSTAMP:20260423T121104
CREATED:20260114T105033Z
LAST-MODIFIED:20260114T105033Z
UID:8887-1791450000-1791460800@www.theorchardsschool.org
SUMMARY:Individual Photos
DESCRIPTION:Individual Photos \nThursday 8th October 2026
URL:https://www.theorchardsschool.org/event/individual-photos-3/
LOCATION:The Orchards School
CATEGORIES:Nursery,Reception,Year 1,Year 2,Year 3,Year 4
END:VEVENT
BEGIN:VEVENT
DTSTART;VALUE=DATE:20261023
DTEND;VALUE=DATE:20261024
DTSTAMP:20260423T121104
CREATED:20260423T103743Z
LAST-MODIFIED:20260423T103743Z
UID:9265-1792713600-1792799999@www.theorchardsschool.org
SUMMARY:Staff Inset Day
DESCRIPTION:Staff Inset Day \nFriday 23rd October 2026 \nNo pupils required in school
URL:https://www.theorchardsschool.org/event/staff-inset-day-28/
LOCATION:The Orchards School
CATEGORIES:Nursery,Reception,Staff Training,Year 1,Year 2,Year 3,Year 4
END:VEVENT
BEGIN:VEVENT
DTSTART;VALUE=DATE:20261026
DTEND;VALUE=DATE:20261031
DTSTAMP:20260423T121104
CREATED:20260423T104727Z
LAST-MODIFIED:20260423T104945Z
UID:9275-1792972800-1793404799@www.theorchardsschool.org
SUMMARY:Half Term
DESCRIPTION:Half Term \nMonday 26th October – Friday 30th October 2026 \n 
URL:https://www.theorchardsschool.org/event/half-term-21/
LOCATION:The Orchards School
CATEGORIES:Nursery,Reception,School Holiday,Year 1,Year 2,Year 3,Year 4
END:VEVENT
BEGIN:VEVENT
DTSTART;VALUE=DATE:20261102
DTEND;VALUE=DATE:20261103
DTSTAMP:20260423T121104
CREATED:20260423T110519Z
LAST-MODIFIED:20260423T110519Z
UID:9287-1793577600-1793663999@www.theorchardsschool.org
SUMMARY:Term Begins
DESCRIPTION:Term Begins Monday 2nd November 2026
URL:https://www.theorchardsschool.org/event/term-begins-11/
LOCATION:The Orchards School
CATEGORIES:Nursery,Reception,Term Start,Year 1,Year 2,Year 3,Year 4
END:VEVENT
BEGIN:VEVENT
DTSTART;VALUE=DATE:20261221
DTEND;VALUE=DATE:20270102
DTSTAMP:20260423T121104
CREATED:20260423T105933Z
LAST-MODIFIED:20260423T110733Z
UID:9283-1797811200-1798847999@www.theorchardsschool.org
SUMMARY:Christmas Holiday
DESCRIPTION:Christmas Holiday \nMonday 21st December 2026 – Friday 1st January 2027
URL:https://www.theorchardsschool.org/event/christmas-holiday/
LOCATION:The Orchards School
CATEGORIES:Nursery,Reception,School Holiday,Year 1,Year 2,Year 3,Year 4
END:VEVENT
BEGIN:VEVENT
DTSTART;VALUE=DATE:20270104
DTEND;VALUE=DATE:20270105
DTSTAMP:20260423T121104
CREATED:20260423T103902Z
LAST-MODIFIED:20260423T103902Z
UID:9267-1799020800-1799107199@www.theorchardsschool.org
SUMMARY:Staff Inset Day
DESCRIPTION:Staff Inset Day \nMonday 4th January 2027 \nNo pupils required in school
URL:https://www.theorchardsschool.org/event/staff-inset-day-29/
LOCATION:The Orchards School
CATEGORIES:Nursery,Reception,Staff Training,Year 1,Year 2,Year 3,Year 4
END:VEVENT
BEGIN:VEVENT
DTSTART;VALUE=DATE:20270105
DTEND;VALUE=DATE:20270106
DTSTAMP:20260423T121104
CREATED:20260423T110900Z
LAST-MODIFIED:20260423T110900Z
UID:9291-1799107200-1799193599@www.theorchardsschool.org
SUMMARY:Term Begins
DESCRIPTION:Term Begins Tuesday 5th January 2027
URL:https://www.theorchardsschool.org/event/term-begins-12/
LOCATION:The Orchards School
CATEGORIES:Nursery,Reception,Term Start,Year 1,Year 2,Year 3,Year 4
END:VEVENT
BEGIN:VEVENT
DTSTART;VALUE=DATE:20270215
DTEND;VALUE=DATE:20270220
DTSTAMP:20260423T121104
CREATED:20260423T104856Z
LAST-MODIFIED:20260423T104856Z
UID:9277-1802649600-1803081599@www.theorchardsschool.org
SUMMARY:Half Term
DESCRIPTION:Half Term \nMonday 15th February – Friday 19th February 2027 \n 
URL:https://www.theorchardsschool.org/event/half-term-22/
LOCATION:The Orchards School
CATEGORIES:Nursery,Reception,School Holiday,Year 1,Year 2,Year 3,Year 4
END:VEVENT
BEGIN:VEVENT
DTSTART;VALUE=DATE:20270222
DTEND;VALUE=DATE:20270223
DTSTAMP:20260423T121104
CREATED:20260423T104107Z
LAST-MODIFIED:20260423T104107Z
UID:9269-1803254400-1803340799@www.theorchardsschool.org
SUMMARY:Staff Inset Day
DESCRIPTION:Staff Inset Day \nMonday 22nd February 2027 \nNo pupils required in school
URL:https://www.theorchardsschool.org/event/staff-inset-day-30/
LOCATION:The Orchards School
CATEGORIES:Nursery,Reception,Staff Training,Year 1,Year 2,Year 3,Year 4
END:VEVENT
END:VCALENDAR