BEGIN:VCALENDAR
VERSION:2.0
PRODID:-//The Orchards School - ECPv6.15.20//NONSGML v1.0//EN
CALSCALE:GREGORIAN
METHOD:PUBLISH
X-ORIGINAL-URL:https://www.theorchardsschool.org
X-WR-CALDESC:Events for The Orchards School
REFRESH-INTERVAL;VALUE=DURATION:PT1H
X-Robots-Tag:noindex
X-PUBLISHED-TTL:PT1H
BEGIN:VTIMEZONE
TZID:Europe/London
BEGIN:DAYLIGHT
TZOFFSETFROM:+0000
TZOFFSETTO:+0100
TZNAME:BST
DTSTART:20210328T010000
END:DAYLIGHT
BEGIN:STANDARD
TZOFFSETFROM:+0100
TZOFFSETTO:+0000
TZNAME:GMT
DTSTART:20211031T010000
END:STANDARD
BEGIN:DAYLIGHT
TZOFFSETFROM:+0000
TZOFFSETTO:+0100
TZNAME:BST
DTSTART:20220327T010000
END:DAYLIGHT
BEGIN:STANDARD
TZOFFSETFROM:+0100
TZOFFSETTO:+0000
TZNAME:GMT
DTSTART:20221030T010000
END:STANDARD
BEGIN:DAYLIGHT
TZOFFSETFROM:+0000
TZOFFSETTO:+0100
TZNAME:BST
DTSTART:20230326T010000
END:DAYLIGHT
BEGIN:STANDARD
TZOFFSETFROM:+0100
TZOFFSETTO:+0000
TZNAME:GMT
DTSTART:20231029T010000
END:STANDARD
END:VTIMEZONE
BEGIN:VEVENT
DTSTART;TZID=Europe/London:20220720T150000
DTEND;TZID=Europe/London:20220720T173000
DTSTAMP:20260420T200127
CREATED:20220610T180404Z
LAST-MODIFIED:20220610T182953Z
UID:6324-1658329200-1658338200@www.theorchardsschool.org
SUMMARY:PTA Summer Fair
DESCRIPTION:More information to follow in a letter. Alternatively\, please see the PTA Facebook site\, or speak to PTA members for more information.
URL:https://www.theorchardsschool.org/event/pta-summer-fair/
LOCATION:The Orchards School
CATEGORIES:Community Event,Nursery,Nursery Tots,Parent Event,Reception,Year 1,Year 2,Year 3,Year 4
ORGANIZER;CN="Orchards PTA":MAILTO:pta@theorchards.org
END:VEVENT
END:VCALENDAR