BEGIN:VCALENDAR
VERSION:2.0
PRODID:-//The Orchards School - ECPv6.15.20//NONSGML v1.0//EN
CALSCALE:GREGORIAN
METHOD:PUBLISH
X-ORIGINAL-URL:https://www.theorchardsschool.org
X-WR-CALDESC:Events for The Orchards School
REFRESH-INTERVAL;VALUE=DURATION:PT1H
X-Robots-Tag:noindex
X-PUBLISHED-TTL:PT1H
BEGIN:VTIMEZONE
TZID:Europe/London
BEGIN:DAYLIGHT
TZOFFSETFROM:+0000
TZOFFSETTO:+0100
TZNAME:BST
DTSTART:20210328T010000
END:DAYLIGHT
BEGIN:STANDARD
TZOFFSETFROM:+0100
TZOFFSETTO:+0000
TZNAME:GMT
DTSTART:20211031T010000
END:STANDARD
BEGIN:DAYLIGHT
TZOFFSETFROM:+0000
TZOFFSETTO:+0100
TZNAME:BST
DTSTART:20220327T010000
END:DAYLIGHT
BEGIN:STANDARD
TZOFFSETFROM:+0100
TZOFFSETTO:+0000
TZNAME:GMT
DTSTART:20221030T010000
END:STANDARD
BEGIN:DAYLIGHT
TZOFFSETFROM:+0000
TZOFFSETTO:+0100
TZNAME:BST
DTSTART:20230326T010000
END:DAYLIGHT
BEGIN:STANDARD
TZOFFSETFROM:+0100
TZOFFSETTO:+0000
TZNAME:GMT
DTSTART:20231029T010000
END:STANDARD
END:VTIMEZONE
BEGIN:VEVENT
DTSTART;TZID=Europe/London:20220621T133000
DTEND;TZID=Europe/London:20220621T150000
DTSTAMP:20260420T215853
CREATED:20220610T160938Z
LAST-MODIFIED:20220610T161550Z
UID:6283-1655818200-1655823600@www.theorchardsschool.org
SUMMARY:New Reception Intake Parents' Information Afternoon
DESCRIPTION:
URL:https://www.theorchardsschool.org/event/new-reception-intake-parents-information-afternoon/
LOCATION:The Orchards School
CATEGORIES:Nursery,Nursery Tots,Reception
ORGANIZER;CN="The Orchards School":MAILTO:office@theorchardsschool.org
END:VEVENT
BEGIN:VEVENT
DTSTART;TZID=Europe/London:20220621T180000
DTEND;TZID=Europe/London:20220621T193000
DTSTAMP:20260420T215853
CREATED:20220610T161252Z
LAST-MODIFIED:20220610T161719Z
UID:6286-1655834400-1655839800@www.theorchardsschool.org
SUMMARY:New Reception Parents' Information Afternoon
DESCRIPTION:
URL:https://www.theorchardsschool.org/event/new-reception-parents-information-afternoon/
LOCATION:The Orchards School
CATEGORIES:Nursery,Nursery Tots,Reception
ORGANIZER;CN="The Orchards School":MAILTO:office@theorchardsschool.org
END:VEVENT
END:VCALENDAR