BEGIN:VCALENDAR
VERSION:2.0
PRODID:-//The Orchards School - ECPv6.15.20//NONSGML v1.0//EN
CALSCALE:GREGORIAN
METHOD:PUBLISH
X-WR-CALNAME:The Orchards School
X-ORIGINAL-URL:https://www.theorchardsschool.org
X-WR-CALDESC:Events for The Orchards School
REFRESH-INTERVAL;VALUE=DURATION:PT1H
X-Robots-Tag:noindex
X-PUBLISHED-TTL:PT1H
BEGIN:VTIMEZONE
TZID:Europe/London
BEGIN:DAYLIGHT
TZOFFSETFROM:+0000
TZOFFSETTO:+0100
TZNAME:BST
DTSTART:20210328T010000
END:DAYLIGHT
BEGIN:STANDARD
TZOFFSETFROM:+0100
TZOFFSETTO:+0000
TZNAME:GMT
DTSTART:20211031T010000
END:STANDARD
BEGIN:DAYLIGHT
TZOFFSETFROM:+0000
TZOFFSETTO:+0100
TZNAME:BST
DTSTART:20220327T010000
END:DAYLIGHT
BEGIN:STANDARD
TZOFFSETFROM:+0100
TZOFFSETTO:+0000
TZNAME:GMT
DTSTART:20221030T010000
END:STANDARD
BEGIN:DAYLIGHT
TZOFFSETFROM:+0000
TZOFFSETTO:+0100
TZNAME:BST
DTSTART:20230326T010000
END:DAYLIGHT
BEGIN:STANDARD
TZOFFSETFROM:+0100
TZOFFSETTO:+0000
TZNAME:GMT
DTSTART:20231029T010000
END:STANDARD
END:VTIMEZONE
BEGIN:VEVENT
DTSTART;TZID=Europe/London:20220620T083000
DTEND;TZID=Europe/London:20220620T165000
DTSTAMP:20260420T215758
CREATED:20220610T160438Z
LAST-MODIFIED:20220610T160438Z
UID:6275-1655713800-1655743800@www.theorchardsschool.org
SUMMARY:Reception Educational Visit to Weston-Super-Mare
DESCRIPTION:Copy of Letter RE: Reception Class Educational Visit\, Weston-Super-Mare \n24.5.22 \nDear Parents and Carers\, \nAs you may be aware next half term\, learning in our Reception classes will be centred around the topic: What’s special about Summer? The core learning in this topic focuses on the \n\nsigns of Summer;\nidentifying similarities and differences between beach holidays in the past and present including clothing\, food\, activities;\nknowing that rockpools can be found at the beach and that they are habitats for sea creatures;\nknowing how to stay safe in the sun and at the beach including sun cream\, hat\, staying close to adults\, water safety.\n\nIn order to maximise on the cultural capitol for all our pupils\, and provide them with concrete conscious connections to scaffold learning in the above areas\, we plan to take our Reception classes to the beach at Weston-Super-Mare on Monday 20th June. \nChildren would need to arrive at school earlier than normal\, ready to depart at 8.30am. We would then return back to school for 4.50pm.  All children in Reception are entitled to a universal free school meal\, which on this day will be a packed lunch option. \nYour child will be required to wear appropriate clothes\, including a hat\, and bring a bag to carry a small towel\, a change of clothes (as we will be paddling)\, and a water bottle. Depending on the weather\, if they have a waterproof coat and this would be very useful. We will provide a clear list of items needed closer to the date of the trip. \nThere will be a charge for this trip of £18.00 payable by sQuid to cover travel\, all activities\, ice-lollies and complementary beach play equipment that the children will be able to keep. We have made every effort to keep the cost of this trip as low as possible and we appreciate your understanding that if we cannot cover the costs of travel\, we will reluctantly have to cancel the trip. Please could we ask you to complete the permission slip below with regard to photograph permissions\, lunch requests and first aid and return to your Reception class teacher by Monday 6th June 2022. \nThe value of this trip on every child’s learning is significant. “Studies of adventure learning interventions consistently show positive benefits on academic learning. On average\, pupils who participate in adventure learning interventions make approximately four additional months’ progress.  There is also evidence of an impact on non-cognitive outcomes such as self-confidence.” \nShould you have any questions\, please do speak to Mrs Yates\, Mrs Ahmed-Khan or myself. Thank you for your support. \nMrs M Rumney\nHead of School
URL:https://www.theorchardsschool.org/event/reception-educational-visit-to-weston-super-mare/
LOCATION:Weston-Super-Mare\, Marine Parade\, Weston-Super-Mare BS23 1BE\, Weston-Super-Mare
CATEGORIES:Educational Visit,Reception
ORGANIZER;CN="The Orchards School":MAILTO:office@theorchardsschool.org
END:VEVENT
END:VCALENDAR