BEGIN:VCALENDAR
VERSION:2.0
PRODID:-//The Orchards School - ECPv6.15.20//NONSGML v1.0//EN
CALSCALE:GREGORIAN
METHOD:PUBLISH
X-WR-CALNAME:The Orchards School
X-ORIGINAL-URL:https://www.theorchardsschool.org
X-WR-CALDESC:Events for The Orchards School
REFRESH-INTERVAL;VALUE=DURATION:PT1H
X-Robots-Tag:noindex
X-PUBLISHED-TTL:PT1H
BEGIN:VTIMEZONE
TZID:Europe/London
BEGIN:DAYLIGHT
TZOFFSETFROM:+0000
TZOFFSETTO:+0100
TZNAME:BST
DTSTART:20230326T010000
END:DAYLIGHT
BEGIN:STANDARD
TZOFFSETFROM:+0100
TZOFFSETTO:+0000
TZNAME:GMT
DTSTART:20231029T010000
END:STANDARD
BEGIN:DAYLIGHT
TZOFFSETFROM:+0000
TZOFFSETTO:+0100
TZNAME:BST
DTSTART:20240331T010000
END:DAYLIGHT
BEGIN:STANDARD
TZOFFSETFROM:+0100
TZOFFSETTO:+0000
TZNAME:GMT
DTSTART:20241027T010000
END:STANDARD
BEGIN:DAYLIGHT
TZOFFSETFROM:+0000
TZOFFSETTO:+0100
TZNAME:BST
DTSTART:20250330T010000
END:DAYLIGHT
BEGIN:STANDARD
TZOFFSETFROM:+0100
TZOFFSETTO:+0000
TZNAME:GMT
DTSTART:20251026T010000
END:STANDARD
END:VTIMEZONE
BEGIN:VEVENT
DTSTART;VALUE=DATE:20240301
DTEND;VALUE=DATE:20240302
DTSTAMP:20260421T115755
CREATED:20240208T112140Z
LAST-MODIFIED:20240208T112140Z
UID:7679-1709251200-1709337599@www.theorchardsschool.org
SUMMARY:Forest School Friday Year 3
DESCRIPTION:Year 3 Forest School Friday. \nFriday 1st March. \nYear 3 need to bring a bag of clothes to change into.
URL:https://www.theorchardsschool.org/event/forest-school-friday-year-3/
LOCATION:The Orchards School
CATEGORIES:Forest School,Year 3
END:VEVENT
BEGIN:VEVENT
DTSTART;VALUE=DATE:20240301
DTEND;VALUE=DATE:20240302
DTSTAMP:20260421T115755
CREATED:20240226T112444Z
LAST-MODIFIED:20240226T112444Z
UID:7843-1709251200-1709337599@www.theorchardsschool.org
SUMMARY:Forest School Friday - Year Nursery\, RY and 1H
DESCRIPTION:Forest School Friday – Year Nursery\, RY and 1H. \nFriday 1st March 2024. \nChildren can come to school wearing their Forest School clothes.
URL:https://www.theorchardsschool.org/event/forest-school-friday-year-nursery-ry-and-1h/
LOCATION:The Orchards School
CATEGORIES:Forest School
END:VEVENT
END:VCALENDAR